BEGIN:VCALENDAR
VERSION:2.0
PRODID:icalendar-ruby
CALSCALE:GREGORIAN
METHOD:PUBLISH
BEGIN:VEVENT
DTSTAMP:20260424T082123Z
UID:148-425210@unityns.org
DTSTART:20260628T173000Z
DTEND:20260628T183000Z
CLASS:PUBLIC
CREATED:20260422T142654
DESCRIPTION:Celebrate 75 Years of Community &amp\; Harmony!\nJoin us for a 
 very special afternoon as we wrap up our landmark 75th-anniversary year wi
 th a flourish! We are thrilled to host acclaimed jazz artists Juli Wood an
 d Beth Lederman for an intimate\, soul-stirring performance.\nWhether you
 ’re a lifelong member or a first-time visitor\, pull up a chair for our 
 potluck lunch and stay for the music. Let’s fill the room with rhythm an
 d gratitude as we look forward to the next 75 years!\nSunday\, June 28th\n
 10:30am: Sunday Service\n11:45am: Potluck Lunch\n12:30-1:30pm: Free Concer
 t\nRegistration is not necessary. All are welcome - invite your friends!\n
 Funding for this performance is generously provided by a grant from the Mu
 sic Performance Trust Fund: https://musicpf.org/
LAST-MODIFIED:20260422T142654
LOCATION:In Person at UNS
SUMMARY:Encore: Jazz Concert
URL;VALUE=URI:https://www.unityns.org/events/encore-jazz-concert/2026-06-28
ATTACH;FILENAME=Encore-Graphic.jpg;FMTTYPE=image/jpeg:https://dq5pwpg1q8ru0
 .cloudfront.net/2026/04/21/15/56/04/c70d4f67-f8e8-4f14-addc-d05c21b27674/E
 ncore-Graphic.jpg
END:VEVENT
END:VCALENDAR
